BEGIN:VCALENDAR
VERSION:2.0
PRODID:pasreform.com
BEGIN:VEVENT
UID:69ecdf3d76c3f
DTSTART;VALUE=DATE:20260914
SEQUENCE:0
TRANSP:OPAQUE
DTEND;VALUE=DATE:20260919
LOCATION:Training- and Distribution centre\, Doetinchem\, Países Bajos
SUMMARY:Hatchery Management Training
CLASS:PUBLIC
X-MICROSOFT-CDO-ALLDAYEVENT:TRUE
DTSTAMP:20260425T153525Z
END:VEVENT
END:VCALENDAR