BEGIN:VCALENDAR
VERSION:2.0
PRODID:pasreform.com
BEGIN:VEVENT
UID:69ea83e644f84
DTSTART;VALUE=DATE:20260804
SEQUENCE:0
TRANSP:OPAQUE
DTEND;VALUE=DATE:20260809
LOCATION:Distrito Anhembi - São Paulo\, Avenida Olavo Fontoura\, 1209 – 
 Santana –  São Paulo – SP\, Brazil
SUMMARY:SIAVS - International Animal Protein Trade Show
CLASS:PUBLIC
X-MICROSOFT-CDO-ALLDAYEVENT:TRUE
DTSTAMP:20260423T204110Z
END:VEVENT
END:VCALENDAR