BEGIN:VCALENDAR
VERSION:2.0
PRODID:pasreform.com
BEGIN:VEVENT
UID:69eceab639d78
DTSTART;VALUE=DATE:20261007
SEQUENCE:0
TRANSP:OPAQUE
DTEND;VALUE=DATE:20261009
LOCATION:Kigali Convention Centre\, Kigali\, Ruanda
SUMMARY:VIV Africa
CLASS:PUBLIC
X-MICROSOFT-CDO-ALLDAYEVENT:TRUE
DTSTAMP:20260425T162422Z
END:VEVENT
END:VCALENDAR