BEGIN:VCALENDAR
VERSION:2.0
PRODID:pasreform.com
BEGIN:VEVENT
UID:69eb6ac7ac443
DTSTART;VALUE=DATE:20260602
SEQUENCE:0
TRANSP:OPAQUE
DTEND;VALUE=DATE:20260605
LOCATION:Jaarbeurs\, Utrecht\, Netherlands
SUMMARY:VIV Europe
CLASS:PUBLIC
X-MICROSOFT-CDO-ALLDAYEVENT:TRUE
DTSTAMP:20260424T130615Z
END:VEVENT
END:VCALENDAR