BEGIN:VCALENDAR
VERSION:2.0
PRODID:pasreform.com
BEGIN:VEVENT
UID:69eceab8127d4
DTSTART;VALUE=DATE:20261111
SEQUENCE:0
TRANSP:OPAQUE
DTEND;VALUE=DATE:20261114
LOCATION:The Parque de la Industria\, Guatamala City\, Guatemala
SUMMARY:Ovum 2026
CLASS:PUBLIC
X-MICROSOFT-CDO-ALLDAYEVENT:TRUE
DTSTAMP:20260425T162424Z
END:VEVENT
END:VCALENDAR